BEGIN:VCALENDAR
VERSION:2.0
PRODID:-//www.northeastraces.com//northeastraces//EN
METHOD:PUBLISH
BEGIN:VEVENT
UID:2026-10-11-bramham-wetherby@www.northeastraces.com
DESCRIPTION:details=http://www.northeastraces.com/#2026-10-11-bramham-wetherby\, length=10K and 6K\, cd=?\, eods=?\, results=?
LOCATION:LS23 6RR (Bramham (Wetherby))
SUMMARY:Run Bramham 10K and 6K\, cd=?\, eods=?
DTSTART;VALUE=DATE:20261011
DTEND;VALUE=DATE:20261011
DTSTAMP:20260423T124333Z
URL:http://www.northeastraces.com/#2026-10-11-bramham-wetherby
END:VEVENT
END:VCALENDAR