BEGIN:VCALENDAR
VERSION:2.0
PRODID:-//www.northeastraces.com//northeastraces//EN
METHOD:PUBLISH
BEGIN:VEVENT
UID:2026-10-04-carlisle@www.northeastraces.com
DESCRIPTION:details=http://www.northeastraces.com/#2026-10-04-carlisle\, length=half marathon and 10K and 5K\, cd=?\, eods=?\, results=?
LOCATION:CA3 8UR (Carlisle)
SUMMARY:Great Cumbrian Run and Great Cumbrian 10K and 5K\, cd=?\, eods=?
DTSTART;VALUE=DATE:20261004
DTEND;VALUE=DATE:20261004
DTSTAMP:20260422T123122Z
URL:http://www.northeastraces.com/#2026-10-04-carlisle
END:VEVENT
END:VCALENDAR