BEGIN:VCALENDAR
VERSION:2.0
PRODID:-//www.northeastraces.com//northeastraces//EN
METHOD:PUBLISH
BEGIN:VEVENT
UID:2026-11-01-glenridding-ullswater@www.northeastraces.com
DESCRIPTION:details=http://www.northeastraces.com/#2026-11-01-glenridding-ullswater\, length=14K and 10K\, cd=?\, eods=?\, results=?
LOCATION:CA11 0US (Glenridding (Ullswater))
SUMMARY:Ullswater Trail Races 14K/10K\, cd=?\, eods=?
DTSTART;VALUE=DATE:20261101
DTEND;VALUE=DATE:20261101
DTSTAMP:20260420T134351Z
URL:http://www.northeastraces.com/#2026-11-01-glenridding-ullswater
END:VEVENT
END:VCALENDAR