BEGIN:VCALENDAR
VERSION:2.0
PRODID:-//www.northeastraces.com//northeastraces//EN
METHOD:PUBLISH
BEGIN:VEVENT
UID:2026-10-31-glenridding-ullswater@www.northeastraces.com
DESCRIPTION:details=http://www.northeastraces.com/#2026-10-31-glenridding-ullswater\, length=15K and 10K and 5K\, cd=?\, eods=?\, results=?
LOCATION:CA11 0US (Glenridding (Ullswater))
SUMMARY:Helvellyn Trail Races 15K/10K/5K\, cd=?\, eods=?
DTSTART;VALUE=DATE:20261031
DTEND;VALUE=DATE:20261031
DTSTAMP:20260420T133834Z
URL:http://www.northeastraces.com/#2026-10-31-glenridding-ullswater
END:VEVENT
END:VCALENDAR